{
 "currentVersion": 10.61,
 "serviceDescription": "",
 "mapName": "Layers",
 "description": "",
 "copyrightText": "",
 "supportsDynamicLayers": true,
 "layers": [
  {
   "id": 0,
   "name": "_Adresse",
   "parentLayerId": -1,
   "defaultVisibility": true,
   "subLayerIds": [
    1,
    2
   ],
   "minScale": 1300,
   "maxScale": 801
  },
  {
   "id": 1,
   "name": "Default",
   "parentLayerId": 0,
   "defaultVisibility": true,
   "subLayerIds": null,
   "minScale": 0,
   "maxScale": 0
  },
  {
   "id": 2,
   "name": "Adresse ventilée",
   "parentLayerId": 0,
   "defaultVisibility": false,
   "subLayerIds": null,
   "minScale": 0,
   "maxScale": 0
  },
  {
   "id": 3,
   "name": "_Nom Rue",
   "parentLayerId": -1,
   "defaultVisibility": true,
   "subLayerIds": null,
   "minScale": 1129,
   "maxScale": 0
  },
  {
   "id": 4,
   "name": "_Nom Rue",
   "parentLayerId": -1,
   "defaultVisibility": true,
   "subLayerIds": null,
   "minScale": 2257,
   "maxScale": 1129
  },
  {
   "id": 5,
   "name": "_Nom Rue",
   "parentLayerId": -1,
   "defaultVisibility": true,
   "subLayerIds": null,
   "minScale": 2257,
   "maxScale": 1129
  },
  {
   "id": 6,
   "name": "_Nom Rue",
   "parentLayerId": -1,
   "defaultVisibility": true,
   "subLayerIds": null,
   "minScale": 2257,
   "maxScale": 1129
  },
  {
   "id": 7,
   "name": "_Nom Rue",
   "parentLayerId": -1,
   "defaultVisibility": true,
   "subLayerIds": null,
   "minScale": 2257,
   "maxScale": 1129
  },
  {
   "id": 8,
   "name": "_Nom Rue",
   "parentLayerId": -1,
   "defaultVisibility": true,
   "subLayerIds": null,
   "minScale": 2257,
   "maxScale": 1129
  },
  {
   "id": 9,
   "name": "_Nom Rue",
   "parentLayerId": -1,
   "defaultVisibility": true,
   "subLayerIds": null,
   "minScale": 2257,
   "maxScale": 1129
  },
  {
   "id": 10,
   "name": "_Nom Rue",
   "parentLayerId": -1,
   "defaultVisibility": true,
   "subLayerIds": null,
   "minScale": 2257,
   "maxScale": 1129
  },
  {
   "id": 11,
   "name": "_Nom Rue",
   "parentLayerId": -1,
   "defaultVisibility": true,
   "subLayerIds": null,
   "minScale": 2257,
   "maxScale": 1129
  },
  {
   "id": 12,
   "name": "_Nom Rue",
   "parentLayerId": -1,
   "defaultVisibility": true,
   "subLayerIds": null,
   "minScale": 2257,
   "maxScale": 1129
  },
  {
   "id": 13,
   "name": "_Nom Rue",
   "parentLayerId": -1,
   "defaultVisibility": true,
   "subLayerIds": null,
   "minScale": 2257,
   "maxScale": 1129
  },
  {
   "id": 14,
   "name": "_Nom Rue",
   "parentLayerId": -1,
   "defaultVisibility": true,
   "subLayerIds": null,
   "minScale": 4514,
   "maxScale": 2258
  },
  {
   "id": 15,
   "name": "_Nom Rue",
   "parentLayerId": -1,
   "defaultVisibility": true,
   "subLayerIds": null,
   "minScale": 9028,
   "maxScale": 4515
  },
  {
   "id": 16,
   "name": "_Nom Rue",
   "parentLayerId": -1,
   "defaultVisibility": true,
   "subLayerIds": null,
   "minScale": 18056,
   "maxScale": 9029
  },
  {
   "id": 17,
   "name": "_Nom Rue",
   "parentLayerId": -1,
   "defaultVisibility": true,
   "subLayerIds": null,
   "minScale": 37000,
   "maxScale": 21999
  },
  {
   "id": 18,
   "name": "_Nom Rue",
   "parentLayerId": -1,
   "defaultVisibility": true,
   "subLayerIds": null,
   "minScale": 129000,
   "maxScale": 61000
  },
  {
   "id": 19,
   "name": "Panneaux routiers",
   "parentLayerId": -1,
   "defaultVisibility": true,
   "subLayerIds": [
    20,
    21
   ],
   "minScale": 0,
   "maxScale": 0
  },
  {
   "id": 20,
   "name": "Panneau_routier",
   "parentLayerId": 19,
   "defaultVisibility": true,
   "subLayerIds": null,
   "minScale": 18056,
   "maxScale": 4515
  },
  {
   "id": 21,
   "name": "Panneau_routier",
   "parentLayerId": 19,
   "defaultVisibility": true,
   "subLayerIds": null,
   "minScale": 36112,
   "maxScale": 18057
  },
  {
   "id": 22,
   "name": "Unité d'évaluation",
   "parentLayerId": -1,
   "defaultVisibility": true,
   "subLayerIds": null,
   "minScale": 2257,
   "maxScale": 0
  },
  {
   "id": 23,
   "name": "SiteInteret",
   "parentLayerId": -1,
   "defaultVisibility": true,
   "subLayerIds": null,
   "minScale": 2257,
   "maxScale": 0
  },
  {
   "id": 24,
   "name": "SiteInteret",
   "parentLayerId": -1,
   "defaultVisibility": true,
   "subLayerIds": null,
   "minScale": 4514,
   "maxScale": 2258
  },
  {
   "id": 25,
   "name": "AncrageAdresse2_Dissolve",
   "parentLayerId": -1,
   "defaultVisibility": true,
   "subLayerIds": null,
   "minScale": 2257,
   "maxScale": 1130
  },
  {
   "id": 26,
   "name": "Groupe de couches",
   "parentLayerId": -1,
   "defaultVisibility": true,
   "subLayerIds": [
    27,
    28,
    32,
    33,
    34,
    35,
    36,
    37,
    43,
    49,
    50,
    54,
    55,
    58,
    64,
    73,
    76,
    77,
    78,
    79,
    82,
    83,
    84,
    85,
    86,
    94
   ],
   "minScale": 0,
   "maxScale": 2258
  },
  {
   "id": 27,
   "name": "GOCITE_BorneIncendie",
   "parentLayerId": 26,
   "defaultVisibility": false,
   "subLayerIds": null,
   "minScale": 1250,
   "maxScale": 0
  },
  {
   "id": 28,
   "name": "Noms de rues",
   "parentLayerId": 26,
   "defaultVisibility": false,
   "subLayerIds": [
    29,
    30,
    31
   ],
   "minScale": 0,
   "maxScale": 0
  },
  {
   "id": 29,
   "name": "GOCITE_SegmentRue_1 - 1:18 056 - 1:9 029",
   "parentLayerId": 28,
   "defaultVisibility": true,
   "subLayerIds": null,
   "minScale": 18056,
   "maxScale": 9029
  },
  {
   "id": 30,
   "name": "GOCITE_SegmentRue_2 - 1:37 000 - 1:21 000",
   "parentLayerId": 28,
   "defaultVisibility": true,
   "subLayerIds": null,
   "minScale": 37000,
   "maxScale": 21999
  },
  {
   "id": 31,
   "name": "GOCITE_SegmentRue_4 - 1:129 000 - 1:61 000",
   "parentLayerId": 28,
   "defaultVisibility": true,
   "subLayerIds": null,
   "minScale": 129000,
   "maxScale": 61000
  },
  {
   "id": 32,
   "name": "gocite.GOCITE.Viaduc_L - 1: 9 028",
   "parentLayerId": 26,
   "defaultVisibility": true,
   "subLayerIds": null,
   "minScale": 9028,
   "maxScale": 4515
  },
  {
   "id": 33,
   "name": "gocite.GOCITE.Viaduc_S Autoroute - 1: 18 056",
   "parentLayerId": 26,
   "defaultVisibility": true,
   "subLayerIds": null,
   "minScale": 18056,
   "maxScale": 4514
  },
  {
   "id": 34,
   "name": "gocite.GOCITE.Viaduc_S - 1: 18 056",
   "parentLayerId": 26,
   "defaultVisibility": true,
   "subLayerIds": null,
   "minScale": 18056,
   "maxScale": 4515
  },
  {
   "id": 35,
   "name": "gocite_GOCITE_Ruisseau",
   "parentLayerId": 26,
   "defaultVisibility": false,
   "subLayerIds": null,
   "minScale": 9028,
   "maxScale": 0
  },
  {
   "id": 36,
   "name": "gocite_GOCITE_UniteEvaluation",
   "parentLayerId": 26,
   "defaultVisibility": true,
   "subLayerIds": null,
   "minScale": 4514,
   "maxScale": 2258
  },
  {
   "id": 37,
   "name": "Nom AireAmenagee",
   "parentLayerId": 26,
   "defaultVisibility": true,
   "subLayerIds": [
    38,
    39,
    40,
    41,
    42
   ],
   "minScale": 0,
   "maxScale": 0
  },
  {
   "id": 38,
   "name": "Nom AireAmenagee 1: 2 257",
   "parentLayerId": 37,
   "defaultVisibility": true,
   "subLayerIds": null,
   "minScale": 2257,
   "maxScale": 0
  },
  {
   "id": 39,
   "name": "Nom AireAmenagee 1: 4 514",
   "parentLayerId": 37,
   "defaultVisibility": true,
   "subLayerIds": null,
   "minScale": 4514,
   "maxScale": 2258
  },
  {
   "id": 40,
   "name": "Nom AireAmenagee 1: 9 028",
   "parentLayerId": 37,
   "defaultVisibility": true,
   "subLayerIds": null,
   "minScale": 9028,
   "maxScale": 4515
  },
  {
   "id": 41,
   "name": "Nom AireAmenagee 1:18 056",
   "parentLayerId": 37,
   "defaultVisibility": true,
   "subLayerIds": null,
   "minScale": 18056,
   "maxScale": 9029
  },
  {
   "id": 42,
   "name": "Nom AireAmenagee 1:36 112",
   "parentLayerId": 37,
   "defaultVisibility": true,
   "subLayerIds": null,
   "minScale": 0,
   "maxScale": 18057
  },
  {
   "id": 43,
   "name": "Nom AireAmenagee - Golf",
   "parentLayerId": 26,
   "defaultVisibility": true,
   "subLayerIds": [
    44,
    45,
    46,
    47,
    48
   ],
   "minScale": 0,
   "maxScale": 0
  },
  {
   "id": 44,
   "name": "Nom AireAmenagee 1: 2 257",
   "parentLayerId": 43,
   "defaultVisibility": true,
   "subLayerIds": null,
   "minScale": 2257,
   "maxScale": 0
  },
  {
   "id": 45,
   "name": "Nom AireAmenagee 1: 4 514",
   "parentLayerId": 43,
   "defaultVisibility": true,
   "subLayerIds": null,
   "minScale": 4514,
   "maxScale": 2258
  },
  {
   "id": 46,
   "name": "Nom AireAmenagee 1: 9 028",
   "parentLayerId": 43,
   "defaultVisibility": true,
   "subLayerIds": null,
   "minScale": 9028,
   "maxScale": 4515
  },
  {
   "id": 47,
   "name": "Nom AireAmenagee 1:18 056",
   "parentLayerId": 43,
   "defaultVisibility": true,
   "subLayerIds": null,
   "minScale": 18056,
   "maxScale": 9029
  },
  {
   "id": 48,
   "name": "Nom AireAmenagee 1:36 112",
   "parentLayerId": 43,
   "defaultVisibility": true,
   "subLayerIds": null,
   "minScale": 0,
   "maxScale": 18057
  },
  {
   "id": 49,
   "name": "GOCITE_Municipalite Gris",
   "parentLayerId": 26,
   "defaultVisibility": true,
   "subLayerIds": null,
   "minScale": 144448,
   "maxScale": 0
  },
  {
   "id": 50,
   "name": "Municipalité 1:288 895 Gris",
   "parentLayerId": 26,
   "defaultVisibility": true,
   "subLayerIds": [
    51,
    52,
    53
   ],
   "minScale": 0,
   "maxScale": 0
  },
  {
   "id": 51,
   "name": "GOCITE_Municipalite",
   "parentLayerId": 50,
   "defaultVisibility": true,
   "subLayerIds": null,
   "minScale": 0,
   "maxScale": 144449
  },
  {
   "id": 52,
   "name": "GOCITE_Municipalite",
   "parentLayerId": 50,
   "defaultVisibility": true,
   "subLayerIds": null,
   "minScale": 288896,
   "maxScale": 144449
  },
  {
   "id": 53,
   "name": "GOCITE_Municipalite",
   "parentLayerId": 50,
   "defaultVisibility": true,
   "subLayerIds": null,
   "minScale": 0,
   "maxScale": 288896
  },
  {
   "id": 54,
   "name": "GOCITE_VoieFerree 18 000",
   "parentLayerId": 26,
   "defaultVisibility": true,
   "subLayerIds": null,
   "minScale": 18000,
   "maxScale": 0
  },
  {
   "id": 55,
   "name": "Sens unique",
   "parentLayerId": 26,
   "defaultVisibility": true,
   "subLayerIds": [
    56,
    57
   ],
   "minScale": 0,
   "maxScale": 0
  },
  {
   "id": 56,
   "name": "Sens unique 10000",
   "parentLayerId": 55,
   "defaultVisibility": true,
   "subLayerIds": null,
   "minScale": 18056,
   "maxScale": 9029
  },
  {
   "id": 57,
   "name": "Sens unique",
   "parentLayerId": 55,
   "defaultVisibility": true,
   "subLayerIds": null,
   "minScale": 9028,
   "maxScale": 0
  },
  {
   "id": 58,
   "name": "Voie de circulation",
   "parentLayerId": 26,
   "defaultVisibility": true,
   "subLayerIds": [
    59,
    60,
    61,
    62,
    63
   ],
   "minScale": 0,
   "maxScale": 0
  },
  {
   "id": 59,
   "name": "GOCITE_Chaussee_L 1:4514",
   "parentLayerId": 58,
   "defaultVisibility": true,
   "subLayerIds": null,
   "minScale": 4514,
   "maxScale": 0
  },
  {
   "id": 60,
   "name": "GOCITE_TerrePlein_L",
   "parentLayerId": 58,
   "defaultVisibility": true,
   "subLayerIds": null,
   "minScale": 2500,
   "maxScale": 0
  },
  {
   "id": 61,
   "name": "GOCITE_Trottoir_L",
   "parentLayerId": 58,
   "defaultVisibility": true,
   "subLayerIds": null,
   "minScale": 2500,
   "maxScale": 0
  },
  {
   "id": 62,
   "name": "gocite_GOCITE_Passerelle_L",
   "parentLayerId": 58,
   "defaultVisibility": true,
   "subLayerIds": null,
   "minScale": 4514,
   "maxScale": 0
  },
  {
   "id": 63,
   "name": "gocite_GOCITE_Pont_L",
   "parentLayerId": 58,
   "defaultVisibility": false,
   "subLayerIds": null,
   "minScale": 4514,
   "maxScale": 0
  },
  {
   "id": 64,
   "name": "Centre de rue",
   "parentLayerId": 26,
   "defaultVisibility": true,
   "subLayerIds": [
    65,
    66,
    67,
    68,
    69,
    70,
    71,
    72
   ],
   "minScale": 0,
   "maxScale": 0
  },
  {
   "id": 65,
   "name": "gocite_GOCITE_SegmentRueProjete",
   "parentLayerId": 64,
   "defaultVisibility": true,
   "subLayerIds": null,
   "minScale": 0,
   "maxScale": 4515
  },
  {
   "id": 66,
   "name": "gocite_GOCITE_SegmentRue_Buffer_10m_Artere_Collectrice - 1:18 056 - 1:4 515",
   "parentLayerId": 64,
   "defaultVisibility": true,
   "subLayerIds": null,
   "minScale": 18056,
   "maxScale": 4514
  },
  {
   "id": 67,
   "name": "gocite_GOCITE_SegmentRue_Buffer_8m_Locale - 1:36 112 - 1:4 513",
   "parentLayerId": 64,
   "defaultVisibility": true,
   "subLayerIds": null,
   "minScale": 36112,
   "maxScale": 4513
  },
  {
   "id": 68,
   "name": "gocite_GOCITE_SegmentRue_Buffer_10m_autoroute - 1:9 028 - 1:4 515",
   "parentLayerId": 64,
   "defaultVisibility": true,
   "subLayerIds": null,
   "minScale": 9028,
   "maxScale": 4514
  },
  {
   "id": 69,
   "name": "gocite_GOCITE_SegmentRue_Buffer_15m_autoroute - 1:36 112 - 1:4 515",
   "parentLayerId": 64,
   "defaultVisibility": true,
   "subLayerIds": null,
   "minScale": 36112,
   "maxScale": 4514
  },
  {
   "id": 70,
   "name": "gocite_GOCITE_SegmentRue_Buffer_10m_Artere_Collectrice - 1: 36 112 - 1: 18 057 ",
   "parentLayerId": 64,
   "defaultVisibility": true,
   "subLayerIds": null,
   "minScale": 36112,
   "maxScale": 18057
  },
  {
   "id": 71,
   "name": "GOCITE_SegmentRue_4 - 1:129 000 - 1:61 000",
   "parentLayerId": 64,
   "defaultVisibility": true,
   "subLayerIds": null,
   "minScale": 129000,
   "maxScale": 61000
  },
  {
   "id": 72,
   "name": "SegmentRegion",
   "parentLayerId": 64,
   "defaultVisibility": true,
   "subLayerIds": null,
   "minScale": 0,
   "maxScale": 5000
  },
  {
   "id": 73,
   "name": "Voie ferée",
   "parentLayerId": 26,
   "defaultVisibility": true,
   "subLayerIds": [
    74,
    75
   ],
   "minScale": 0,
   "maxScale": 0
  },
  {
   "id": 74,
   "name": "GOCITE_VoieFerree 18 000",
   "parentLayerId": 73,
   "defaultVisibility": true,
   "subLayerIds": null,
   "minScale": 18000,
   "maxScale": 0
  },
  {
   "id": 75,
   "name": "GOCITE_VoieFerree",
   "parentLayerId": 73,
   "defaultVisibility": true,
   "subLayerIds": null,
   "minScale": 0,
   "maxScale": 18001
  },
  {
   "id": 76,
   "name": "gocite.GOCITE.Pont_S",
   "parentLayerId": 26,
   "defaultVisibility": true,
   "subLayerIds": null,
   "minScale": 4514,
   "maxScale": 2258
  },
  {
   "id": 77,
   "name": "gocite_GOCITE_Passerelle_S",
   "parentLayerId": 26,
   "defaultVisibility": true,
   "subLayerIds": null,
   "minScale": 4514,
   "maxScale": 0
  },
  {
   "id": 78,
   "name": "gocite_GOCITE_PiscineExterieure",
   "parentLayerId": 26,
   "defaultVisibility": true,
   "subLayerIds": null,
   "minScale": 9028,
   "maxScale": 0
  },
  {
   "id": 79,
   "name": "Bâtiment",
   "parentLayerId": 26,
   "defaultVisibility": true,
   "subLayerIds": [
    80,
    81
   ],
   "minScale": 0,
   "maxScale": 0
  },
  {
   "id": 80,
   "name": "GOCITE_Batiment",
   "parentLayerId": 79,
   "defaultVisibility": true,
   "subLayerIds": null,
   "minScale": 9028,
   "maxScale": 2257
  },
  {
   "id": 81,
   "name": "GOCITE_Batiment",
   "parentLayerId": 79,
   "defaultVisibility": true,
   "subLayerIds": null,
   "minScale": 31000,
   "maxScale": 9029
  },
  {
   "id": 82,
   "name": "GOCITE_AireAmenagee",
   "parentLayerId": 26,
   "defaultVisibility": true,
   "subLayerIds": null,
   "minScale": 150000,
   "maxScale": 0
  },
  {
   "id": 83,
   "name": "GOCITE_AireAmenagee_Golf",
   "parentLayerId": 26,
   "defaultVisibility": true,
   "subLayerIds": null,
   "minScale": 150000,
   "maxScale": 0
  },
  {
   "id": 84,
   "name": "complement_cartographique",
   "parentLayerId": 26,
   "defaultVisibility": true,
   "subLayerIds": null,
   "minScale": 4514,
   "maxScale": 0
  },
  {
   "id": 85,
   "name": "gocite_GOCITE_TerrePlein_L",
   "parentLayerId": 26,
   "defaultVisibility": true,
   "subLayerIds": null,
   "minScale": 4514,
   "maxScale": 0
  },
  {
   "id": 86,
   "name": "Hydro",
   "parentLayerId": 26,
   "defaultVisibility": true,
   "subLayerIds": [
    87,
    88,
    89,
    90,
    91,
    92,
    93
   ],
   "minScale": 0,
   "maxScale": 0
  },
  {
   "id": 87,
   "name": "GOCITE_Ile",
   "parentLayerId": 86,
   "defaultVisibility": false,
   "subLayerIds": null,
   "minScale": 60000,
   "maxScale": 0
  },
  {
   "id": 88,
   "name": "GOCITE_Riviere",
   "parentLayerId": 86,
   "defaultVisibility": true,
   "subLayerIds": null,
   "minScale": 18056,
   "maxScale": 0
  },
  {
   "id": 89,
   "name": "GOCITE_Riviere",
   "parentLayerId": 86,
   "defaultVisibility": true,
   "subLayerIds": null,
   "minScale": 0,
   "maxScale": 2258
  },
  {
   "id": 90,
   "name": "GOCITE_Lac",
   "parentLayerId": 86,
   "defaultVisibility": true,
   "subLayerIds": null,
   "minScale": 36112,
   "maxScale": 0
  },
  {
   "id": 91,
   "name": "GOCITE_Lac",
   "parentLayerId": 86,
   "defaultVisibility": true,
   "subLayerIds": null,
   "minScale": 144448,
   "maxScale": 36113
  },
  {
   "id": 92,
   "name": "GOCITE_Lac",
   "parentLayerId": 86,
   "defaultVisibility": true,
   "subLayerIds": null,
   "minScale": 144448,
   "maxScale": 2258
  },
  {
   "id": 93,
   "name": "GOCITE_Lac",
   "parentLayerId": 86,
   "defaultVisibility": true,
   "subLayerIds": null,
   "minScale": 0,
   "maxScale": 144449
  },
  {
   "id": 94,
   "name": "gocite_GOCITE_UniteEvaluation",
   "parentLayerId": 26,
   "defaultVisibility": false,
   "subLayerIds": null,
   "minScale": 4514,
   "maxScale": 0
  },
  {
   "id": 95,
   "name": "HillShade_Z1",
   "parentLayerId": -1,
   "defaultVisibility": true,
   "subLayerIds": null,
   "minScale": 0,
   "maxScale": 18057
  },
  {
   "id": 96,
   "name": "HillShade_Z3",
   "parentLayerId": -1,
   "defaultVisibility": true,
   "subLayerIds": null,
   "minScale": 18056,
   "maxScale": 2258
  },
  {
   "id": 97,
   "name": "HillShade_Z3",
   "parentLayerId": -1,
   "defaultVisibility": true,
   "subLayerIds": null,
   "minScale": 2257,
   "maxScale": 0
  }
 ],
 "tables": [],
 "spatialReference": {
  "wkid": 102100,
  "latestWkid": 3857
 },
 "singleFusedMapCache": true,
 "tileInfo": {
  "rows": 256,
  "cols": 256,
  "dpi": 96,
  "format": "PNG",
  "compressionQuality": 0,
  "origin": {
   "x": -2.0037508342787E7,
   "y": 2.0037508342787E7
  },
  "spatialReference": {
   "wkid": 102100,
   "latestWkid": 3857
  },
  "lods": [
   {
    "level": 0,
    "resolution": 156543.033928,
    "scale": 5.91657527591555E8
   },
   {
    "level": 1,
    "resolution": 78271.5169639999,
    "scale": 2.95828763795777E8
   },
   {
    "level": 2,
    "resolution": 39135.7584820001,
    "scale": 1.47914381897889E8
   },
   {
    "level": 3,
    "resolution": 19567.8792409999,
    "scale": 7.3957190948944E7
   },
   {
    "level": 4,
    "resolution": 9783.93962049996,
    "scale": 3.6978595474472E7
   },
   {
    "level": 5,
    "resolution": 4891.96981024998,
    "scale": 1.8489297737236E7
   },
   {
    "level": 6,
    "resolution": 2445.98490512499,
    "scale": 9244648.868618
   },
   {
    "level": 7,
    "resolution": 1222.99245256249,
    "scale": 4622324.434309
   },
   {
    "level": 8,
    "resolution": 611.49622628138,
    "scale": 2311162.217155
   },
   {
    "level": 9,
    "resolution": 305.748113140558,
    "scale": 1155581.108577
   },
   {
    "level": 10,
    "resolution": 152.874056570411,
    "scale": 577790.554289
   },
   {
    "level": 11,
    "resolution": 76.4370282850732,
    "scale": 288895.277144
   },
   {
    "level": 12,
    "resolution": 38.2185141425366,
    "scale": 144447.638572
   },
   {
    "level": 13,
    "resolution": 19.1092570712683,
    "scale": 72223.819286
   },
   {
    "level": 14,
    "resolution": 9.55462853563415,
    "scale": 36111.909643
   },
   {
    "level": 15,
    "resolution": 4.77731426794937,
    "scale": 18055.954822
   },
   {
    "level": 16,
    "resolution": 2.38865713397468,
    "scale": 9027.977411
   },
   {
    "level": 17,
    "resolution": 1.19432856685505,
    "scale": 4513.988705
   },
   {
    "level": 18,
    "resolution": 0.597164283559817,
    "scale": 2256.994353
   },
   {
    "level": 19,
    "resolution": 0.298582141647617,
    "scale": 1128.497176
   }
  ]
 },
 "initialExtent": {
  "xmin": -8008849.777022859,
  "ymin": 5677784.624288339,
  "xmax": -8008407.174787654,
  "ymax": 5678059.198837489,
  "spatialReference": {
   "cs": "pcs",
   "wkid": 102100
  }
 },
 "fullExtent": {
  "xmin": -8141894.381100001,
  "ymin": 5622117.552100003,
  "xmax": -7918233.4563,
  "ymax": 5761986.8521,
  "spatialReference": {
   "cs": "pcs",
   "wkid": 102100
  }
 },
 "minScale": 5.91657527592E8,
 "maxScale": 1128.497176,
 "units": "esriMeters",
 "supportedImageFormatTypes": "PNG32,PNG24,PNG,JPG,DIB,TIFF,EMF,PS,PDF,GIF,SVG,SVGZ,BMP",
 "documentInfo": {
  "Title": "BaseMap",
  "Author": "andcor",
  "Comments": "",
  "Subject": "",
  "Category": "",
  "AntialiasingMode": "Fast",
  "TextAntialiasingMode": "Force",
  "Keywords": ""
 },
 "capabilities": "Map,Query,Data",
 "supportedQueryFormats": "JSON, AMF, geoJSON",
 "exportTilesAllowed": false,
 "datumTransformations": [
  {
   "geoTransforms": [
    {
     "wkid": 108001,
     "latestWkid": 1241,
     "transformForward": true,
     "name": "NAD_1927_To_NAD_1983_NADCON"
    }
   ]
  },
  {
   "geoTransforms": [
    {
     "wkid": 108001,
     "latestWkid": 1241,
     "transformForward": false,
     "name": "NAD_1927_To_NAD_1983_NADCON"
    }
   ]
  }
 ],
 "supportsDatumTransformation": true,
 "maxRecordCount": 10000,
 "maxImageHeight": 4096,
 "maxImageWidth": 4096,
 "supportedExtensions": ""
}
